BEGIN:VCALENDAR
VERSION:2.0
PRODID:-//ChamberMaster//Event Calendar 2.0//EN
METHOD:PUBLISH
X-PUBLISHED-TTL:P3D
REFRESH-INTERVAL:P3D
CALSCALE:GREGORIAN
BEGIN:VEVENT
DTSTART;VALUE=DATE:20190608
DTEND;VALUE=DATE:20190609
TRANSP:TRANSPARENT
X-MICROSOFT-CDO-ALLDAYEVENT:TRUE
SUMMARY:Yarn Bomb 2019
DESCRIPTION:The Yarn Bomb the Museum outdoor public fiber art exhibit opens on Saturday\, June 8\, 2019 and will run through August 10\, 2019. The exhibit features local crafts people who have created fiber based art to decorate the grounds of the Old Courthouse and Old Jailhouse museums at 320 S. 5th Ave\, West Bend\, WI. See hundreds of crocheted flowers\, trees covered in colorful scarves and tiny yarn mushrooms magically growing from stumps. This year we will also have a scavenger hunt inside the Old Courthouse Museum. Complete the hunt with correct answers and be entered to win a prize basket! The grounds are free to explore\, the scavenger hunt is free with regular admission to the Old Courthouse Museum. A yarn bomb is a form of public fiber art meant to bring a sense of the unexpected and fun into daily life. It is often whimsical\, colorful and can be a large public project or just a small individual piece. Pieces are usually knit or crocheted\, but can be any form of fiber art and come from people of all skill levels! For more information contact Curator of Collections and Exhibits\, Janean Van Beckum at 262 335-4678 or curator@historyisfun.com
X-ALT-DESC;FMTTYPE=text/html:<span style="font-family:arial\,sans-serif\;"><span style="font-size:10.0pt\;">The Yarn Bomb the Museum outdoor public fiber art exhibit opens on Saturday\, June 8\, 2019 and will run through August 10\, 2019. The exhibit features local crafts people who have created fiber based art to decorate the grounds of the Old Courthouse and Old Jailhouse museums at 320 S. 5th Ave\, West Bend\, WI. See hundreds of crocheted flowers\, trees covered in colorful scarves and tiny yarn mushrooms magically growing from stumps. This year we will also have a scavenger hunt inside the Old Courthouse Museum. Complete the hunt with correct answers and be entered to win a prize basket! The grounds are free to explore\, the scavenger hunt is free with regular admission to the Old Courthouse Museum. A yarn bomb is a form of public fiber art meant to bring a sense of the unexpected and fun into daily life. It is often whimsical\, colorful and can be a large public project or just a small individual piece. Pieces are usually knit or crocheted\, but can be any form of fiber art and come from people of all skill levels! For more information contact Curator of Collections and Exhibits\, Janean Van Beckum at 262 335-4678 or <a href="mailto:curator@historyisfun.com">curator@historyisfun.com</a></span></span>
LOCATION:The History Center Washington County 320 S 5th Ave West Bend WI 53095
UID:e.898.5916
SEQUENCE:3
DTSTAMP:20260419T151253Z
URL:https://business.hartfordareachamber.org/events/details/yarn-bomb-2019-5916
END:VEVENT

END:VCALENDAR
