BEGIN:VCALENDAR
VERSION:2.0
PRODID:-//ChamberMaster//Event Calendar 2.0//EN
METHOD:PUBLISH
X-PUBLISHED-TTL:P3D
REFRESH-INTERVAL:P3D
CALSCALE:GREGORIAN
BEGIN:VEVENT
DTSTART:20120506T180000Z
DTEND:20120506T210000Z
X-MICROSOFT-CDO-ALLDAYEVENT:FALSE
SUMMARY:YMCA Camp Matawa Open House
DESCRIPTION:Come experience the magic of YMCA Camp Matawa at our open house.  You'll receive a guided tour of the grounds\, meet our wonderful staff\, enjoy a wagon ride\, and spend some quality time climbing our rock wall and shooting archery.  It's a great way to spend a Sunday afternoon with your familly!
X-ALT-DESC;FMTTYPE=text/html:<p>\n	Come experience the magic of YMCA Camp Matawa at our open house.&nbsp\; You&#39\;ll receive a guided tour of the grounds\, meet our wonderful staff\, enjoy a wagon ride\, and spend some quality time climbing our rock wall and shooting archery.&nbsp\; It&#39\;s a great way to spend a Sunday afternoon with your familly!</p>\n
LOCATION:YMCA Camp Matawa N885 Youth Camp Rd. Campbellsport\, WI 53010
UID:e.898.1171
SEQUENCE:3
DTSTAMP:20260423T003202Z
URL:https://business.hartfordareachamber.org/events/details/ymca-camp-matawa-open-house-05-06-2012-1171
END:VEVENT

END:VCALENDAR
