BEGIN:VCALENDAR
VERSION:2.0
PRODID:-//ChamberMaster//Event Calendar 2.0//EN
METHOD:PUBLISH
X-PUBLISHED-TTL:P3D
REFRESH-INTERVAL:P3D
CALSCALE:GREGORIAN
BEGIN:VEVENT
DTSTART:20130615T123000Z
DTEND:20130615T160000Z
X-MICROSOFT-CDO-ALLDAYEVENT:FALSE
SUMMARY:Youth Fisheree
DESCRIPTION:Hartford Youth Fisheree\n\n(Ages 15 & Under)\n\n\n\nSaturday\, June 15\n\n7:30 am - 11 am\n\nHartford Mill Pond/Centennial Park\n\n\n\nFree fishing contest at the Hartford Mill Pond/Centennial Park. Prizes awarded for the three largest fish in five age categories.  Registration opens at 7:30 am\, fishing until 11 am.  Lunch and prizes at 11 am.  Sponsored by the Hartford -Kettle Moraine Lions Club.
X-ALT-DESC;FMTTYPE=text/html:<span style="font-size: 18px\;">Hartford Youth Fisheree<br />\n<span style="font-size: 12px\;">(Ages 15 &amp\; Under)<br />\n<br />\nSaturday\, June 15<br />\n7:30 am - 11 am<br />\nHartford Mill Pond/Centennial Park<br />\n<br />\nFree fishing contest at the Hartford Mill Pond/Centennial Park.&nbsp\;Prizes awarded for the three largest fish in five age categories.&nbsp\; Registration opens at 7:30 am\, fishing until 11 am.&nbsp\; Lunch and prizes at 11 am.&nbsp\; Sponsored by the Hartford -Kettle Moraine Lions Club.</span></span><br />\n
LOCATION:Hartford Mill Pond/Centennial Park
UID:e.898.2561
SEQUENCE:3
DTSTAMP:20260419T121233Z
URL:https://business.hartfordareachamber.org/events/details/youth-fisheree-06-15-2013-2561
END:VEVENT

END:VCALENDAR
